BEGIN:VCALENDAR
VERSION:2.0
PRODID:icalendar-ruby
CALSCALE:GREGORIAN
METHOD:PUBLISH
BEGIN:VEVENT
DTSTAMP:20260424T152421Z
UID:9-782780@firstbaptistberlin.com
DTSTART:20260930T230000Z
DTEND:20261001T000000Z
CLASS:PUBLIC
CREATED:20260424T105243
DESCRIPTION:
LAST-MODIFIED:20260424T105243
LOCATION:First Baptist Church of Berlin
SUMMARY:Night Prayer
URL;VALUE=URI:https://firstbaptistberlin.com/events/night-prayer/2026-09-30
ATTACH;FILENAME=Church-Vote-Dishware-%281%29.jpg;FMTTYPE=image/jpeg:https:/
 /dq5pwpg1q8ru0.cloudfront.net/2023/09/07/12/59/01/d1915fad-2031-4e24-936f-
 088763ea5b9e/Church-Vote-Dishware-%25281%2529.jpg
END:VEVENT
END:VCALENDAR
